BEGIN:VCALENDAR
VERSION:2.0
PRODID:-//Key Venture - ECPv6.13.2.1//NONSGML v1.0//EN
CALSCALE:GREGORIAN
METHOD:PUBLISH
X-ORIGINAL-URL:https://keyventure.in
X-WR-CALDESC:Events for Key Venture
REFRESH-INTERVAL;VALUE=DURATION:PT1H
X-Robots-Tag:noindex
X-PUBLISHED-TTL:PT1H
BEGIN:VTIMEZONE
TZID:Asia/Kolkata
BEGIN:STANDARD
TZOFFSETFROM:+0530
TZOFFSETTO:+0530
TZNAME:IST
DTSTART:20170101T000000
END:STANDARD
END:VTIMEZONE
BEGIN:VTIMEZONE
TZID:UTC
BEGIN:STANDARD
TZOFFSETFROM:+0000
TZOFFSETTO:+0000
TZNAME:UTC
DTSTART:20170101T000000
END:STANDARD
END:VTIMEZONE
BEGIN:VTIMEZONE
TZID:Asia/Kolkata
BEGIN:STANDARD
TZOFFSETFROM:+0530
TZOFFSETTO:+0530
TZNAME:IST
DTSTART:20170101T000000
END:STANDARD
END:VTIMEZONE
BEGIN:VEVENT
DTSTART;VALUE=DATE:20180819
DTEND;VALUE=DATE:20180820
DTSTAMP:20260425T170301
CREATED:20180830T165458Z
LAST-MODIFIED:20180830T165741Z
UID:1670-1534636800-1534723199@keyventure.in
SUMMARY:Vivaan 2018
DESCRIPTION:Topic: NA \nRole Played: Jury\, Investor \nMedia: Visit Page 1 | Page 2
URL:https://keyventure.in/event/vivaan-2018/
END:VEVENT
BEGIN:VEVENT
DTSTART;VALUE=DATE:20180804
DTEND;VALUE=DATE:20180806
DTSTAMP:20260425T170301
CREATED:20180830T165142Z
LAST-MODIFIED:20180830T165142Z
UID:1669-1533340800-1533513599@keyventure.in
SUMMARY:Eximius 2018\, IIM Bangalore
DESCRIPTION:Topic: VC Panel – Investment Scenario in India \nRole Played: Panel Discussion \nMedia: Visit Page
URL:https://keyventure.in/event/eximius-2018-iim-bangalore-2/
END:VEVENT
BEGIN:VEVENT
DTSTART;VALUE=DATE:20180707
DTEND;VALUE=DATE:20180708
DTSTAMP:20260425T170301
CREATED:20180616T081316Z
LAST-MODIFIED:20180617T175345Z
UID:1554-1530921600-1531007999@keyventure.in
SUMMARY:RaiseMyStartup | Startup Manthan\, 2018
DESCRIPTION:Topic: NA \nRole Played: Jury \nMedia: Visit Page 1 | Page 2 | Page 3 | Page 4
URL:https://keyventure.in/event/raisemystartup-startup-manthan-2018/
END:VEVENT
BEGIN:VEVENT
DTSTART;VALUE=DATE:20180706
DTEND;VALUE=DATE:20180707
DTSTAMP:20260425T170301
CREATED:20180616T081112Z
LAST-MODIFIED:20180616T081112Z
UID:1553-1530835200-1530921599@keyventure.in
SUMMARY:India Leadership Conclave
DESCRIPTION:Topic: NA \nRole Played: Nominated for Woman Entrepreneur of the Year 2018 by ILC Power Brand Awards 2018 \nMedia: Visit Page 1 | Page 2 | Page 3
URL:https://keyventure.in/event/india-leadership-conclave/
END:VEVENT
BEGIN:VEVENT
DTSTART;VALUE=DATE:20180616
DTEND;VALUE=DATE:20180617
DTSTAMP:20260425T170301
CREATED:20180616T080748Z
LAST-MODIFIED:20180616T080748Z
UID:1552-1529107200-1529193599@keyventure.in
SUMMARY:Investor Panel AIC Banasthali\, Jaipur
DESCRIPTION:Topic: NA \nRole Played: Panel Discussion & Jury
URL:https://keyventure.in/event/investor-panel-aic-banasthali-jaipur/
END:VEVENT
BEGIN:VEVENT
DTSTART;VALUE=DATE:20180605
DTEND;VALUE=DATE:20180606
DTSTAMP:20260425T170301
CREATED:20180525T094847Z
LAST-MODIFIED:20180525T094847Z
UID:1535-1528156800-1528243199@keyventure.in
SUMMARY:Magneta 1.0
DESCRIPTION:
URL:https://keyventure.in/event/magneta-1-0/
END:VEVENT
BEGIN:VEVENT
DTSTART;TZID=Asia/Kolkata:20180413T000000
DTEND;TZID=Asia/Kolkata:20180415T000000
DTSTAMP:20260425T170301
CREATED:20180517T170312Z
LAST-MODIFIED:20180517T170312Z
UID:1466-1523577600-1523750400@keyventure.in
SUMMARY:Elevate\, E-SUMMIT\, 2018\, Entrepreneurship Cell IIT Madras
DESCRIPTION:Topic: NA \nRole Played: Panel Discussion
URL:https://keyventure.in/event/elevate-e-summit-2018-entrepreneurship-cell-iit-madras/
END:VEVENT
BEGIN:VEVENT
DTSTART;VALUE=DATE:20180327
DTEND;VALUE=DATE:20180328
DTSTAMP:20260425T170301
CREATED:20180517T170153Z
LAST-MODIFIED:20180518T152156Z
UID:1465-1522108800-1522195199@keyventure.in
SUMMARY:Cynergi Writers Forum - CWF Women On The Rise Achievers Awards 2018
DESCRIPTION:Topic: CWF Women On The Rise Achievers Awards 2018 \nRole Played: Guest of Honor \nMedia: Visit Page 1 | Page 2
URL:https://keyventure.in/event/cynergi-writers-forum-cwf-women-on-the-rise-achievers-awards-2018/
END:VEVENT
BEGIN:VEVENT
DTSTART;TZID=Asia/Kolkata:20180317T000000
DTEND;TZID=Asia/Kolkata:20180318T000000
DTSTAMP:20260425T170301
CREATED:20180517T165709Z
LAST-MODIFIED:20180518T152906Z
UID:1455-1521244800-1521331200@keyventure.in
SUMMARY:Mumbai Startup Fest 2018 - Navayuvak
DESCRIPTION:Topic: Fire Side Chat\, Panel Discussion \nRole Played: Panel Discussion\, Investor & Jury \nMedia: Visit Page 1 | Page 2
URL:https://keyventure.in/event/mumbai-startup-fest-2018-navayuvak/
END:VEVENT
BEGIN:VEVENT
DTSTART;VALUE=DATE:20180317
DTEND;VALUE=DATE:20180318
DTSTAMP:20260425T170301
CREATED:20180517T170142Z
LAST-MODIFIED:20180517T170142Z
UID:1464-1521244800-1521331199@keyventure.in
SUMMARY:RotoPreneur
DESCRIPTION:Topic: Pitch Session-Business Concept \nRole Played: Investor & Jury
URL:https://keyventure.in/event/rotopreneur/
END:VEVENT
BEGIN:VEVENT
DTSTART;TZID=Asia/Kolkata:20180310T000000
DTEND;TZID=Asia/Kolkata:20180311T000000
DTSTAMP:20260425T170301
CREATED:20180517T165510Z
LAST-MODIFIED:20180518T152248Z
UID:1454-1520640000-1520726400@keyventure.in
SUMMARY:Empressario Startup Summit 2018\, EDII Ahmedabad
DESCRIPTION:Topic: NA \nRole Played: Fire Side Chat\, Investor & Jury \nMedia: Visit Page 1 | Page 2
URL:https://keyventure.in/event/empressario-startup-summit-2018-edii-ahmedabad/
END:VEVENT
BEGIN:VEVENT
DTSTART;VALUE=DATE:20180227
DTEND;VALUE=DATE:20180228
DTSTAMP:20260425T170301
CREATED:20180517T165336Z
LAST-MODIFIED:20180518T151730Z
UID:1453-1519689600-1519775999@keyventure.in
SUMMARY:APEX'18 PE-VC Awards
DESCRIPTION:Topic: NA \nRole Played: Key Venture Partnered
URL:https://keyventure.in/event/apex18-pe-vc-awards/
END:VEVENT
BEGIN:VEVENT
DTSTART;VALUE=DATE:20180226
DTEND;VALUE=DATE:20180227
DTSTAMP:20260425T170301
CREATED:20180517T165203Z
LAST-MODIFIED:20180517T165203Z
UID:1452-1519603200-1519689599@keyventure.in
SUMMARY:The Economic Times Power of Ideas 2017
DESCRIPTION:Topic: Business Pitch \nRole Played: Investor & Jury Panel
URL:https://keyventure.in/event/the-economic-times-power-of-ideas-2017/
END:VEVENT
BEGIN:VEVENT
DTSTART;VALUE=DATE:20180222
DTEND;VALUE=DATE:20180223
DTSTAMP:20260425T170301
CREATED:20180517T165059Z
LAST-MODIFIED:20180518T151710Z
UID:1451-1519257600-1519343999@keyventure.in
SUMMARY:TiE Global Summit II\, Mumbai
DESCRIPTION:Topic: NA \nRole Played: Key Venture Partnered \nMedia: Visit Page
URL:https://keyventure.in/event/tie-global-summit-ii-mumbai/
END:VEVENT
BEGIN:VEVENT
DTSTART;VALUE=DATE:20180220
DTEND;VALUE=DATE:20180221
DTSTAMP:20260425T170301
CREATED:20180517T164058Z
LAST-MODIFIED:20180518T151329Z
UID:1445-1519084800-1519171199@keyventure.in
SUMMARY:Global Investment Summit Magnetic Maharashtra: Convergence 2018
DESCRIPTION:Topic: NA \nRole Played: Attended
URL:https://keyventure.in/event/global-investment-summit-magnetic-maharashtra-convergence-2018/
END:VEVENT
BEGIN:VEVENT
DTSTART;VALUE=DATE:20180216
DTEND;VALUE=DATE:20180217
DTSTAMP:20260425T170301
CREATED:20180517T163955Z
LAST-MODIFIED:20180518T151255Z
UID:1444-1518739200-1518825599@keyventure.in
SUMMARY:Shipping Conference - BCCI
DESCRIPTION:Topic: NA \nRole Played: Attended
URL:https://keyventure.in/event/shipping-conference-bcci/
END:VEVENT
BEGIN:VEVENT
DTSTART;VALUE=DATE:20180216
DTEND;VALUE=DATE:20180217
DTSTAMP:20260425T170301
CREATED:20180517T163715Z
LAST-MODIFIED:20180517T163715Z
UID:1443-1518739200-1518825599@keyventure.in
SUMMARY:TiE Mumbai Accelerator Program
DESCRIPTION:Topic: NA \nRole Played: Investor & Jury
URL:https://keyventure.in/event/tie-mumbai-accelerator-program/
END:VEVENT
BEGIN:VEVENT
DTSTART;VALUE=DATE:20180215
DTEND;VALUE=DATE:20180216
DTSTAMP:20260425T170301
CREATED:20180517T163617Z
LAST-MODIFIED:20180517T163617Z
UID:1442-1518652800-1518739199@keyventure.in
SUMMARY:WE Sprint by Social Accelerator - Startup Oasis\, Atal Incubation Centre (AIC) at Banasthali Vidyapith\, Rajasthan
DESCRIPTION:Topic: Diagnostic Panel \nRole Played: Investor & Jury
URL:https://keyventure.in/event/we-sprint-by-social-accelerator-startup-oasis-atal-incubation-centre-aic-at-banasthali-vidyapith-rajasthan/
END:VEVENT
BEGIN:VEVENT
DTSTART;VALUE=DATE:20180210
DTEND;VALUE=DATE:20180211
DTSTAMP:20260425T170301
CREATED:20180517T163317Z
LAST-MODIFIED:20180518T150906Z
UID:1441-1518220800-1518307199@keyventure.in
SUMMARY:PITCH BIZ\, Acropolis Indore
DESCRIPTION:Topic: PitchBiz- Investors Meet Founders \nRole Played: Investor & Jury & Pitch Session \nMedia: Visit Page 1 | Page 2
URL:https://keyventure.in/event/pitch-biz-acropolis-indore/
END:VEVENT
BEGIN:VEVENT
DTSTART;VALUE=DATE:20180210
DTEND;VALUE=DATE:20180211
DTSTAMP:20260425T170301
CREATED:20180516T235414Z
LAST-MODIFIED:20180516T235414Z
UID:1435-1518220800-1518307199@keyventure.in
SUMMARY:INSIGHT'18\, NM College\, Mumbai
DESCRIPTION:Topic: NA \nRole Played: Advisory Board of the Event\, Investor & Jury \nMedia: Visit Page
URL:https://keyventure.in/event/insight18-nm-college-mumbai/
END:VEVENT
BEGIN:VEVENT
DTSTART;VALUE=DATE:20180207
DTEND;VALUE=DATE:20180208
DTSTAMP:20260425T170301
CREATED:20180516T235201Z
LAST-MODIFIED:20180518T150420Z
UID:1434-1517961600-1518047999@keyventure.in
SUMMARY:Seeding Kerala
DESCRIPTION:Topic: Panel Discussion: “The Entry & Exit Strategies For Startup Investment (Angel & VC)”. \nRole Played: Panel Discussion\, Investor\, Jury & 1-on-1 Mentoring \nMedia: Visit Page 1 | Page 2 | Page 3
URL:https://keyventure.in/event/seeding-kerala/
END:VEVENT
BEGIN:VEVENT
DTSTART;VALUE=DATE:20180204
DTEND;VALUE=DATE:20180205
DTSTAMP:20260425T170301
CREATED:20180516T235002Z
LAST-MODIFIED:20180516T235002Z
UID:1433-1517702400-1517788799@keyventure.in
SUMMARY:Empresario'18\, IIT Kharagpur
DESCRIPTION:Topic: Panel Discussion – Moving Towards The Digital Era \nRole Played: Panel Discussion\, Investor & Jury \nMedia: Visit Page
URL:https://keyventure.in/event/empresario18-iit-kharagpur/
END:VEVENT
BEGIN:VEVENT
DTSTART;VALUE=DATE:20180128
DTEND;VALUE=DATE:20180129
DTSTAMP:20260425T170301
CREATED:20180516T234819Z
LAST-MODIFIED:20180516T234819Z
UID:1432-1517097600-1517183999@keyventure.in
SUMMARY:Start-O-Sphere'18\, National Entrepreneurship Summit of IIM Kozhikode
DESCRIPTION:Topic: Panel Discussion – How To Raise Early Stage Funding? \nRole Played: Panel Discussion\, Investor & Jury \nMedia: Visit Page
URL:https://keyventure.in/event/start-o-sphere18-national-entrepreneurship-summit-of-iim-kozhikode/
END:VEVENT
BEGIN:VEVENT
DTSTART;VALUE=DATE:20180120
DTEND;VALUE=DATE:20180121
DTSTAMP:20260425T170301
CREATED:20180516T234737Z
LAST-MODIFIED:20180516T234737Z
UID:1431-1516406400-1516492799@keyventure.in
SUMMARY:STARup Summit Delhi
DESCRIPTION:Topic: Panel Discussion – Media Track at STARup 2018 \nRole Played: Panel Discussion\, Investor & Jury \nMedia: Visit Page
URL:https://keyventure.in/event/starup-summit-delhi/
END:VEVENT
BEGIN:VEVENT
DTSTART;VALUE=DATE:20180113
DTEND;VALUE=DATE:20180114
DTSTAMP:20260425T170301
CREATED:20180516T233002Z
LAST-MODIFIED:20180518T145829Z
UID:1416-1515801600-1515887999@keyventure.in
SUMMARY:Odisha Startup Summit 2018
DESCRIPTION:Topic: Panel Discussion – Financing Your Startup; Workshop – Fund Raising \nRole Played: Panel Discussion \nMedia: Visit Page
URL:https://keyventure.in/event/odisha-startup-summit-2018/
END:VEVENT
BEGIN:VEVENT
DTSTART;VALUE=DATE:20171231
DTEND;VALUE=DATE:20180101
DTSTAMP:20260425T170301
CREATED:20180516T233156Z
LAST-MODIFIED:20180517T170406Z
UID:1415-1514678400-1514764799@keyventure.in
SUMMARY:Techfest'17\, IIT Bombay
DESCRIPTION:Topic: NA \nRole Played: Investor / Jury \nMedia: Visit Page
URL:https://keyventure.in/event/techfest17-iit-bombay/
END:VEVENT
BEGIN:VEVENT
DTSTART;VALUE=DATE:20171216
DTEND;VALUE=DATE:20171217
DTSTAMP:20260425T170301
CREATED:20180514T025305Z
LAST-MODIFIED:20180514T025305Z
UID:1195-1513382400-1513468799@keyventure.in
SUMMARY:Startup Investors' Summit 2017
DESCRIPTION:Topic: NA \nRole Played: Investor/1-on-1 Mentoring \nMedia: Visit Page
URL:https://keyventure.in/event/startup-investors-summit-2017/
END:VEVENT
BEGIN:VEVENT
DTSTART;VALUE=DATE:20171216
DTEND;VALUE=DATE:20171217
DTSTAMP:20260425T170301
CREATED:20180516T232732Z
LAST-MODIFIED:20180516T232732Z
UID:1414-1513382400-1513382400@keyventure.in
SUMMARY:Vaayu'17\, NM College\, Mumbai
DESCRIPTION:Topic: NA \nRole Played: Investor / Jury \nMedia: Visit Page
URL:https://keyventure.in/event/vaayu17-nm-college-mumbai/
END:VEVENT
BEGIN:VEVENT
DTSTART;VALUE=DATE:20171209
DTEND;VALUE=DATE:20171210
DTSTAMP:20260425T170301
CREATED:20170808T013520Z
LAST-MODIFIED:20180514T030717Z
UID:472-1512777600-1512863999@keyventure.in
SUMMARY:Gday 2017 (Google Business Group\, Mumbai)
DESCRIPTION:Topic: Panel – Funding in ML and AI\, VC’s Perspective \nRole Played: Panel Discussion \nMedia: Visit Page
URL:https://keyventure.in/event/gday-2017/
LOCATION:Mumbai\, Mumbai\, India
END:VEVENT
END:VCALENDAR