BEGIN:VCALENDAR
VERSION:2.0
PRODID:-//Key Venture - ECPv6.13.2.1//NONSGML v1.0//EN
CALSCALE:GREGORIAN
METHOD:PUBLISH
X-ORIGINAL-URL:https://keyventure.in
X-WR-CALDESC:Events for Key Venture
REFRESH-INTERVAL;VALUE=DURATION:PT1H
X-Robots-Tag:noindex
X-PUBLISHED-TTL:PT1H
BEGIN:VTIMEZONE
TZID:Asia/Kolkata
BEGIN:STANDARD
TZOFFSETFROM:+0530
TZOFFSETTO:+0530
TZNAME:IST
DTSTART:20190101T000000
END:STANDARD
END:VTIMEZONE
BEGIN:VEVENT
DTSTART;VALUE=DATE:20200110
DTEND;VALUE=DATE:20200113
DTSTAMP:20260425T041328
CREATED:20191006T085430Z
LAST-MODIFIED:20200208T063319Z
UID:1818-1578614400-1578873599@keyventure.in
SUMMARY:Jai Hind Entrepreneurship Summit 2020
DESCRIPTION:Topic: NA \nRole Played: Jury\, Investor\, Mentor \nMedia: View Page 1 | Page 2
URL:https://keyventure.in/event/jai-hind-entrepreneurship-summit-2020/
END:VEVENT
BEGIN:VEVENT
DTSTART;VALUE=DATE:20191220
DTEND;VALUE=DATE:20191223
DTSTAMP:20260425T041328
CREATED:20191207T133053Z
LAST-MODIFIED:20200308T081243Z
UID:2062-1576800000-1577059199@keyventure.in
SUMMARY:32nd Edition of Women Economic Forum (WEF)
DESCRIPTION:Topic: NA \nRole Played: Panel Discussion & Awards \nMedia: View Page 1 | Page 2 | Page 3 | Page 4 | Page 5 | Page 6 | Page 7
URL:https://keyventure.in/event/32nd-edition-of-women-economic-forum-wef/
END:VEVENT
BEGIN:VEVENT
DTSTART;VALUE=DATE:20191215
DTEND;VALUE=DATE:20191216
DTSTAMP:20260425T041328
CREATED:20191207T132934Z
LAST-MODIFIED:20191209T072136Z
UID:2061-1576368000-1576454399@keyventure.in
SUMMARY:Entrepreneur Live\, Bangalore
DESCRIPTION:
URL:https://keyventure.in/event/entrepreneur-live-bangalore/
END:VEVENT
BEGIN:VEVENT
DTSTART;VALUE=DATE:20191214
DTEND;VALUE=DATE:20191215
DTSTAMP:20260425T041328
CREATED:20191207T132849Z
LAST-MODIFIED:20191207T132858Z
UID:2056-1576281600-1576367999@keyventure.in
SUMMARY:Women Power 2019 : Unleash the Power Within You!
DESCRIPTION:
URL:https://keyventure.in/event/women-power-2019-unleash-the-power-within-you/
END:VEVENT
BEGIN:VEVENT
DTSTART;VALUE=DATE:20191214
DTEND;VALUE=DATE:20191215
DTSTAMP:20260425T041328
CREATED:20191207T132816Z
LAST-MODIFIED:20191207T132816Z
UID:2055-1576281600-1576367999@keyventure.in
SUMMARY:YourStory - Early Stage Investor Summit 2019
DESCRIPTION:
URL:https://keyventure.in/event/yourstory-early-stage-investor-summit-2019/
END:VEVENT
BEGIN:VEVENT
DTSTART;VALUE=DATE:20191214
DTEND;VALUE=DATE:20191215
DTSTAMP:20260425T041328
CREATED:20191207T132733Z
LAST-MODIFIED:20191207T132733Z
UID:2054-1576281600-1576367999@keyventure.in
SUMMARY:The Global Leadership Summit 2019
DESCRIPTION:
URL:https://keyventure.in/event/the-global-leadership-summit-2019/
END:VEVENT
BEGIN:VEVENT
DTSTART;VALUE=DATE:20191207
DTEND;VALUE=DATE:20191208
DTSTAMP:20260425T041328
CREATED:20191109T080006Z
LAST-MODIFIED:20191109T080006Z
UID:2036-1575676800-1575763199@keyventure.in
SUMMARY:100X.VC Pitch Day IIT\, Mumbai
DESCRIPTION:
URL:https://keyventure.in/event/100x-vc-pitch-day-iit-mumbai/
END:VEVENT
BEGIN:VEVENT
DTSTART;VALUE=DATE:20191202
DTEND;VALUE=DATE:20191204
DTSTAMP:20260425T041328
CREATED:20191109T075939Z
LAST-MODIFIED:20191109T123828Z
UID:2034-1575244800-1575417599@keyventure.in
SUMMARY:TiE Bangalore - IoT Next 2019
DESCRIPTION:
URL:https://keyventure.in/event/tie-bangalore-iot-next-2019/
END:VEVENT
BEGIN:VEVENT
DTSTART;VALUE=DATE:20191130
DTEND;VALUE=DATE:20191201
DTSTAMP:20260425T041328
CREATED:20191109T075125Z
LAST-MODIFIED:20191211T142550Z
UID:2028-1575072000-1575158399@keyventure.in
SUMMARY:Tie Mumbai - Academy
DESCRIPTION:Topic: Preparation of Pitch / Presentation & Elevator Pitch \nRole Played: Workshop \nMedia: View Page 1 | Page 2 | Page 3 | Page 4 | Page 5 | Page 6
URL:https://keyventure.in/event/tie-mumbai-academy/
END:VEVENT
BEGIN:VEVENT
DTSTART;VALUE=DATE:20191129
DTEND;VALUE=DATE:20191130
DTSTAMP:20260425T041328
CREATED:20191006T085323Z
LAST-MODIFIED:20191006T102814Z
UID:1811-1574985600-1575071999@keyventure.in
SUMMARY:India FInTech Forum's IFTA
DESCRIPTION:
URL:https://keyventure.in/event/india-fintech-forums-ifta/
END:VEVENT
BEGIN:VEVENT
DTSTART;VALUE=DATE:20191123
DTEND;VALUE=DATE:20191124
DTSTAMP:20260425T041328
CREATED:20191023T153130Z
LAST-MODIFIED:20191109T123749Z
UID:2008-1574467200-1574553599@keyventure.in
SUMMARY:TiEcon Mysore
DESCRIPTION:Topic: NA \nRole Played: NA \nMedia: View Page
URL:https://keyventure.in/event/tiecon-mysore/
END:VEVENT
BEGIN:VEVENT
DTSTART;VALUE=DATE:20191122
DTEND;VALUE=DATE:20191125
DTSTAMP:20260425T041328
CREATED:20191109T074806Z
LAST-MODIFIED:20200208T063000Z
UID:2026-1574380800-1574639999@keyventure.in
SUMMARY:Jodhpur Startup Meetup 2.0
DESCRIPTION:Topic: NA \nRole Played: Speaker \nMedia: View Page 1 | Page 2 | Page 3 | Page 4 | Page 5 | Page 6 | Page 7 | Page 8 | Page 9 | Page 10 | Page 11 | Page 12 | Page 13 | Page 14 | Page 15 | Page 16 | Page 17 | Page 18 | Page 19 | Page 20 | Page 21 | Page 22 | Page 23 | Page 24 | Page 25 | Page 26
URL:https://keyventure.in/event/jodhpur-startup-meetup-2-0/
END:VEVENT
BEGIN:VEVENT
DTSTART;VALUE=DATE:20191122
DTEND;VALUE=DATE:20191123
DTSTAMP:20260425T041328
CREATED:20191109T074553Z
LAST-MODIFIED:20191109T074553Z
UID:2024-1574380800-1574467199@keyventure.in
SUMMARY:Razorpay’s FTX 2.019
DESCRIPTION:
URL:https://keyventure.in/event/razorpays-ftx-2-019/
END:VEVENT
BEGIN:VEVENT
DTSTART;VALUE=DATE:20191121
DTEND;VALUE=DATE:20191122
DTSTAMP:20260425T041328
CREATED:20191109T114014Z
LAST-MODIFIED:20191109T114014Z
UID:2042-1574294400-1574380799@keyventure.in
SUMMARY:Ascent Conclave 2019
DESCRIPTION:
URL:https://keyventure.in/event/ascent-conclave-2019/
END:VEVENT
BEGIN:VEVENT
DTSTART;VALUE=DATE:20191114
DTEND;VALUE=DATE:20191116
DTSTAMP:20260425T041328
CREATED:20191006T085309Z
LAST-MODIFIED:20191109T113859Z
UID:1810-1573689600-1573862399@keyventure.in
SUMMARY:World Startup Expo - Bangalore
DESCRIPTION:Topic: Pitch Session \nRole Played: Panel Discussion \nMedia: View Page
URL:https://keyventure.in/event/world-startup-expo-bangalore/
END:VEVENT
BEGIN:VEVENT
DTSTART;VALUE=DATE:20191114
DTEND;VALUE=DATE:20191116
DTSTAMP:20260425T041328
CREATED:20191006T085248Z
LAST-MODIFIED:20191006T101700Z
UID:1809-1573689600-1573862399@keyventure.in
SUMMARY:TieGlobal Summit 2019 - Delhi
DESCRIPTION:
URL:https://keyventure.in/event/tieglobal-summit-2019-delhi/
END:VEVENT
BEGIN:VEVENT
DTSTART;VALUE=DATE:20191113
DTEND;VALUE=DATE:20191117
DTSTAMP:20260425T041328
CREATED:20191109T074317Z
LAST-MODIFIED:20191109T074317Z
UID:2021-1573603200-1573948799@keyventure.in
SUMMARY:YI INNOVEX @ Enterprise Odisha CONCLAVE
DESCRIPTION:Topic: NA \nRole Played: Key Speaker\, Panel Discussion \nMedia: NA
URL:https://keyventure.in/event/yi-innovex-enterprise-odisha-conclave/
END:VEVENT
BEGIN:VEVENT
DTSTART;VALUE=DATE:20191105
DTEND;VALUE=DATE:20191107
DTSTAMP:20260425T041328
CREATED:20191109T074151Z
LAST-MODIFIED:20200306T090822Z
UID:2020-1572912000-1573084799@keyventure.in
SUMMARY:TiE Rajasthan-SmashUp 2019
DESCRIPTION:Topic: Pitch Session \nRole Played: Jury\, Investor \nMedia: View Page 1 | Page 2 | Page 3 | Page 4 | Page 5 | Page 6 | Page 7
URL:https://keyventure.in/event/tie-rajasthan-smashup-2019/
END:VEVENT
BEGIN:VEVENT
DTSTART;VALUE=DATE:20191105
DTEND;VALUE=DATE:20191107
DTSTAMP:20260425T041328
CREATED:20191006T085227Z
LAST-MODIFIED:20191006T101638Z
UID:1808-1572912000-1573084799@keyventure.in
SUMMARY:NPC 2019 - Bangalore
DESCRIPTION:
URL:https://keyventure.in/event/npc-2019-bangalore/
END:VEVENT
BEGIN:VEVENT
DTSTART;VALUE=DATE:20191024
DTEND;VALUE=DATE:20191025
DTSTAMP:20260425T041328
CREATED:20191006T085113Z
LAST-MODIFIED:20191006T101602Z
UID:1804-1571875200-1571961599@keyventure.in
SUMMARY:Bombay Chamber's 184th Foundation Day
DESCRIPTION:
URL:https://keyventure.in/event/bombay-chambers-184th-foundation-day/
END:VEVENT
BEGIN:VEVENT
DTSTART;VALUE=DATE:20191019
DTEND;VALUE=DATE:20191020
DTSTAMP:20260425T041328
CREATED:20191023T153004Z
LAST-MODIFIED:20191023T153004Z
UID:2009-1571443200-1571529599@keyventure.in
SUMMARY:Investor Demo Day - GENSUS EDUTAINERS\, Jaipur
DESCRIPTION:Topic: Pitch Session \nRole Played: Jury\, Investor \nMedia: Visit Page 1 | Page 2
URL:https://keyventure.in/event/investor-demo-day-gensus-edutainers-jaipur/
END:VEVENT
BEGIN:VEVENT
DTSTART;VALUE=DATE:20191019
DTEND;VALUE=DATE:20191020
DTSTAMP:20260425T041328
CREATED:20191023T152900Z
LAST-MODIFIED:20191023T152900Z
UID:2007-1571443200-1571529599@keyventure.in
SUMMARY:Investor Demo Day- Startup Oasis\, Jaipur
DESCRIPTION:Topic: Pitch Session \nRole Played: Jury\, Investor \nMedia: Visit Page 1 | Page 2
URL:https://keyventure.in/event/investor-demo-day-startup-oasis-jaipur/
END:VEVENT
BEGIN:VEVENT
DTSTART;VALUE=DATE:20191011
DTEND;VALUE=DATE:20191013
DTSTAMP:20260425T041328
CREATED:20191006T085000Z
LAST-MODIFIED:20191006T101514Z
UID:1795-1570752000-1570924799@keyventure.in
SUMMARY:TiEcon - Chennai
DESCRIPTION:
URL:https://keyventure.in/event/tiecon-chennai/
END:VEVENT
BEGIN:VEVENT
DTSTART;VALUE=DATE:20191011
DTEND;VALUE=DATE:20191013
DTSTAMP:20260425T041328
CREATED:20191006T084926Z
LAST-MODIFIED:20191024T100847Z
UID:1794-1570752000-1570924799@keyventure.in
SUMMARY:TechSpark 2019 - Bangalore
DESCRIPTION:Topic: Pitch Session \nRole Played: Jury\, Investor \nMedia: NA
URL:https://keyventure.in/event/techspark-2019-bangalore/
END:VEVENT
BEGIN:VEVENT
DTSTART;VALUE=DATE:20191011
DTEND;VALUE=DATE:20191012
DTSTAMP:20260425T041328
CREATED:20191006T085040Z
LAST-MODIFIED:20191024T100944Z
UID:1802-1570752000-1570838399@keyventure.in
SUMMARY:NASSCOM Investor Connect Series
DESCRIPTION:Topic: Pitch Session \nRole Played: Jury\, Investor \nMedia: NA
URL:https://keyventure.in/event/nasscom-investor-connect-series/
END:VEVENT
BEGIN:VEVENT
DTSTART;VALUE=DATE:20191004
DTEND;VALUE=DATE:20191006
DTSTAMP:20260425T041328
CREATED:20191006T084725Z
LAST-MODIFIED:20191024T100831Z
UID:1793-1570147200-1570319999@keyventure.in
SUMMARY:TiEcon - Kerala
DESCRIPTION:Topic: Pitch Session \nRole Played: Jury\, Investor \nMedia: NA
URL:https://keyventure.in/event/tiecon-kerala/
END:VEVENT
BEGIN:VEVENT
DTSTART;VALUE=DATE:20190927
DTEND;VALUE=DATE:20190930
DTSTAMP:20260425T041328
CREATED:20191006T100841Z
LAST-MODIFIED:20191006T140316Z
UID:1830-1569542400-1569801599@keyventure.in
SUMMARY:3 Day Venture Capital Immersion Program | Expert Session | Indian Academy of Venture Capital
DESCRIPTION:Topic: Crafting the Right Business Plan \nRole Played: Workshop\, Speaker \nMedia: Visit Page 1 | Page 2
URL:https://keyventure.in/event/3-day-venture-capital-immersion-program-expert-session-indian-academy-of-venture-capital/
END:VEVENT
BEGIN:VEVENT
DTSTART;VALUE=DATE:20190927
DTEND;VALUE=DATE:20190929
DTSTAMP:20260425T041328
CREATED:20191006T101134Z
LAST-MODIFIED:20191006T140318Z
UID:1836-1569542400-1569715199@keyventure.in
SUMMARY:Kerala Startup Mission - Huddle Kerala 2019
DESCRIPTION:Topic: NA \nRole Played: Jury\, Investor \nMedia: Visit Page 1 | Page 2 | Page 3
URL:https://keyventure.in/event/kerala-startup-mission-huddle-kerala-2019/
END:VEVENT
BEGIN:VEVENT
DTSTART;VALUE=DATE:20190926
DTEND;VALUE=DATE:20190928
DTSTAMP:20260425T041328
CREATED:20191006T100551Z
LAST-MODIFIED:20191006T100551Z
UID:1829-1569456000-1569628799@keyventure.in
SUMMARY:Bengaluru Fintech Summit 2019
DESCRIPTION:
URL:https://keyventure.in/event/bengaluru-fintech-summit-2019/
END:VEVENT
BEGIN:VEVENT
DTSTART;VALUE=DATE:20190913
DTEND;VALUE=DATE:20190914
DTSTAMP:20260425T041328
CREATED:20191006T095433Z
LAST-MODIFIED:20191014T075901Z
UID:1826-1568332800-1568419199@keyventure.in
SUMMARY:TiE Mumbai Workshop
DESCRIPTION:Topic: Workshop on Importance of a Right PPT\, Content and Time \nRole Played: Workshop\, Speaker \nMedia: Visit Page 1 | Page 2 | Page 3 | Page 4 | Page 5 | Page 6 | Page 7 | Page 8 | Page 9
URL:https://keyventure.in/event/tie-mumbai-workshop/
END:VEVENT
END:VCALENDAR