BEGIN:VCALENDAR
VERSION:2.0
PRODID:-//Key Venture - ECPv6.13.2.1//NONSGML v1.0//EN
CALSCALE:GREGORIAN
METHOD:PUBLISH
X-WR-CALNAME:Key Venture
X-ORIGINAL-URL:https://keyventure.in
X-WR-CALDESC:Events for Key Venture
REFRESH-INTERVAL;VALUE=DURATION:PT1H
X-Robots-Tag:noindex
X-PUBLISHED-TTL:PT1H
BEGIN:VTIMEZONE
TZID:Asia/Kolkata
BEGIN:STANDARD
TZOFFSETFROM:+0530
TZOFFSETTO:+0530
TZNAME:IST
DTSTART:20190101T000000
END:STANDARD
END:VTIMEZONE
BEGIN:VEVENT
DTSTART;VALUE=DATE:20191019
DTEND;VALUE=DATE:20191020
DTSTAMP:20260425T072543
CREATED:20191023T153004Z
LAST-MODIFIED:20191023T153004Z
UID:2009-1571443200-1571529599@keyventure.in
SUMMARY:Investor Demo Day - GENSUS EDUTAINERS\, Jaipur
DESCRIPTION:Topic: Pitch Session \nRole Played: Jury\, Investor \nMedia: Visit Page 1 | Page 2
URL:https://keyventure.in/event/investor-demo-day-gensus-edutainers-jaipur/
END:VEVENT
BEGIN:VEVENT
DTSTART;VALUE=DATE:20191019
DTEND;VALUE=DATE:20191020
DTSTAMP:20260425T072543
CREATED:20191023T152900Z
LAST-MODIFIED:20191023T152900Z
UID:2007-1571443200-1571529599@keyventure.in
SUMMARY:Investor Demo Day- Startup Oasis\, Jaipur
DESCRIPTION:Topic: Pitch Session \nRole Played: Jury\, Investor \nMedia: Visit Page 1 | Page 2
URL:https://keyventure.in/event/investor-demo-day-startup-oasis-jaipur/
END:VEVENT
BEGIN:VEVENT
DTSTART;VALUE=DATE:20191011
DTEND;VALUE=DATE:20191013
DTSTAMP:20260425T072543
CREATED:20191006T085000Z
LAST-MODIFIED:20191006T101514Z
UID:1795-1570752000-1570924799@keyventure.in
SUMMARY:TiEcon - Chennai
DESCRIPTION:
URL:https://keyventure.in/event/tiecon-chennai/
END:VEVENT
BEGIN:VEVENT
DTSTART;VALUE=DATE:20191011
DTEND;VALUE=DATE:20191013
DTSTAMP:20260425T072543
CREATED:20191006T084926Z
LAST-MODIFIED:20191024T100847Z
UID:1794-1570752000-1570924799@keyventure.in
SUMMARY:TechSpark 2019 - Bangalore
DESCRIPTION:Topic: Pitch Session \nRole Played: Jury\, Investor \nMedia: NA
URL:https://keyventure.in/event/techspark-2019-bangalore/
END:VEVENT
BEGIN:VEVENT
DTSTART;VALUE=DATE:20191011
DTEND;VALUE=DATE:20191012
DTSTAMP:20260425T072543
CREATED:20191006T085040Z
LAST-MODIFIED:20191024T100944Z
UID:1802-1570752000-1570838399@keyventure.in
SUMMARY:NASSCOM Investor Connect Series
DESCRIPTION:Topic: Pitch Session \nRole Played: Jury\, Investor \nMedia: NA
URL:https://keyventure.in/event/nasscom-investor-connect-series/
END:VEVENT
BEGIN:VEVENT
DTSTART;VALUE=DATE:20191004
DTEND;VALUE=DATE:20191006
DTSTAMP:20260425T072543
CREATED:20191006T084725Z
LAST-MODIFIED:20191024T100831Z
UID:1793-1570147200-1570319999@keyventure.in
SUMMARY:TiEcon - Kerala
DESCRIPTION:Topic: Pitch Session \nRole Played: Jury\, Investor \nMedia: NA
URL:https://keyventure.in/event/tiecon-kerala/
END:VEVENT
BEGIN:VEVENT
DTSTART;VALUE=DATE:20190927
DTEND;VALUE=DATE:20190930
DTSTAMP:20260425T072543
CREATED:20191006T100841Z
LAST-MODIFIED:20191006T140316Z
UID:1830-1569542400-1569801599@keyventure.in
SUMMARY:3 Day Venture Capital Immersion Program | Expert Session | Indian Academy of Venture Capital
DESCRIPTION:Topic: Crafting the Right Business Plan \nRole Played: Workshop\, Speaker \nMedia: Visit Page 1 | Page 2
URL:https://keyventure.in/event/3-day-venture-capital-immersion-program-expert-session-indian-academy-of-venture-capital/
END:VEVENT
BEGIN:VEVENT
DTSTART;VALUE=DATE:20190927
DTEND;VALUE=DATE:20190929
DTSTAMP:20260425T072543
CREATED:20191006T101134Z
LAST-MODIFIED:20191006T140318Z
UID:1836-1569542400-1569715199@keyventure.in
SUMMARY:Kerala Startup Mission - Huddle Kerala 2019
DESCRIPTION:Topic: NA \nRole Played: Jury\, Investor \nMedia: Visit Page 1 | Page 2 | Page 3
URL:https://keyventure.in/event/kerala-startup-mission-huddle-kerala-2019/
END:VEVENT
BEGIN:VEVENT
DTSTART;VALUE=DATE:20190926
DTEND;VALUE=DATE:20190928
DTSTAMP:20260425T072543
CREATED:20191006T100551Z
LAST-MODIFIED:20191006T100551Z
UID:1829-1569456000-1569628799@keyventure.in
SUMMARY:Bengaluru Fintech Summit 2019
DESCRIPTION:
URL:https://keyventure.in/event/bengaluru-fintech-summit-2019/
END:VEVENT
BEGIN:VEVENT
DTSTART;VALUE=DATE:20190913
DTEND;VALUE=DATE:20190914
DTSTAMP:20260425T072543
CREATED:20191006T095433Z
LAST-MODIFIED:20191014T075901Z
UID:1826-1568332800-1568419199@keyventure.in
SUMMARY:TiE Mumbai Workshop
DESCRIPTION:Topic: Workshop on Importance of a Right PPT\, Content and Time \nRole Played: Workshop\, Speaker \nMedia: Visit Page 1 | Page 2 | Page 3 | Page 4 | Page 5 | Page 6 | Page 7 | Page 8 | Page 9
URL:https://keyventure.in/event/tie-mumbai-workshop/
END:VEVENT
BEGIN:VEVENT
DTSTART;VALUE=DATE:20190910
DTEND;VALUE=DATE:20190912
DTSTAMP:20260425T072543
CREATED:20191006T094913Z
LAST-MODIFIED:20191006T095521Z
UID:1825-1568073600-1568246399@keyventure.in
SUMMARY:eChai & TIE - Bhubaneswar
DESCRIPTION:Topic: NA \nRole Played: Jury\, Investor \nMedia: NA
URL:https://keyventure.in/event/echai-tie-bhubaneswar/
END:VEVENT
BEGIN:VEVENT
DTSTART;VALUE=DATE:20190831
DTEND;VALUE=DATE:20190902
DTSTAMP:20260425T072543
CREATED:20191006T094826Z
LAST-MODIFIED:20191006T095547Z
UID:1824-1567209600-1567382399@keyventure.in
SUMMARY:E-Summit ‘19 - NIT Raipur Campus
DESCRIPTION:Topic: NA \nRole Played: Jury\, Investor \nMedia: NA
URL:https://keyventure.in/event/e-summit-19-nit-raipur-campus/
END:VEVENT
BEGIN:VEVENT
DTSTART;VALUE=DATE:20190830
DTEND;VALUE=DATE:20190901
DTSTAMP:20260425T072543
CREATED:20191006T125450Z
LAST-MODIFIED:20191006T125450Z
UID:1880-1567123200-1567295999@keyventure.in
SUMMARY:Techexpo Techniche 2019 - IIT Guwahati
DESCRIPTION:Topic: NA \nRole Played: Jury\, Investor \nMedia: Visit Page
URL:https://keyventure.in/event/techexpo-techniche-2019-iit-guwahati/
END:VEVENT
BEGIN:VEVENT
DTSTART;VALUE=DATE:20190829
DTEND;VALUE=DATE:20190830
DTSTAMP:20260425T072543
CREATED:20191006T125338Z
LAST-MODIFIED:20191006T125338Z
UID:1879-1567036800-1567123199@keyventure.in
SUMMARY:NASSCOM - FinTech Day
DESCRIPTION:Topic: NA \nRole Played: Jury\, Investor \nMedia: Visit Page 1 | Page 2
URL:https://keyventure.in/event/nasscom-fintech-day/
END:VEVENT
BEGIN:VEVENT
DTSTART;VALUE=DATE:20190828
DTEND;VALUE=DATE:20190831
DTSTAMP:20260425T072543
CREATED:20191006T125224Z
LAST-MODIFIED:20191006T125224Z
UID:1878-1566950400-1567209599@keyventure.in
SUMMARY:IMPRESSARIO'19 - G.H. Patel College of Engineering and Technology (GCET)\, Vallabh Vidyanagar\, Anand\, Gujarat
DESCRIPTION:Topic: NA \nRole Played: Jury\, Investor \nMedia: NA
URL:https://keyventure.in/event/impressario19-g-h-patel-college-of-engineering-and-technology-gcet-vallabh-vidyanagar-anand-gujarat/
END:VEVENT
BEGIN:VEVENT
DTSTART;VALUE=DATE:20190823
DTEND;VALUE=DATE:20190825
DTSTAMP:20260425T072543
CREATED:20191006T125018Z
LAST-MODIFIED:20191006T125018Z
UID:1877-1566518400-1566691199@keyventure.in
SUMMARY:DICErupt Student Start-up Summit
DESCRIPTION:Topic: Raising my first cheque \nRole Played: Workshop \nMedia: NA
URL:https://keyventure.in/event/dicerupt-student-start-up-summit/
END:VEVENT
BEGIN:VEVENT
DTSTART;VALUE=DATE:20190821
DTEND;VALUE=DATE:20190822
DTSTAMP:20260425T072543
CREATED:20191006T124901Z
LAST-MODIFIED:20191006T124901Z
UID:1876-1566345600-1566431999@keyventure.in
SUMMARY:TiE Kerala - Capital Cafe 2019
DESCRIPTION:Topic: NA \nRole Played: Jury\, Investor \nMedia: Visit Page 1 | Page 2
URL:https://keyventure.in/event/tie-kerala-capital-cafe-2019/
END:VEVENT
BEGIN:VEVENT
DTSTART;VALUE=DATE:20190725
DTEND;VALUE=DATE:20190726
DTSTAMP:20260425T072543
CREATED:20191006T124618Z
LAST-MODIFIED:20191006T124618Z
UID:1870-1564012800-1564099199@keyventure.in
SUMMARY:IVH - Idea Validation Hotline
DESCRIPTION:Topic: NA \nRole Played: Jury\, Investor \nMedia: NA
URL:https://keyventure.in/event/ivh-idea-validation-hotline/
END:VEVENT
BEGIN:VEVENT
DTSTART;VALUE=DATE:20190725
DTEND;VALUE=DATE:20190726
DTSTAMP:20260425T072543
CREATED:20191006T124552Z
LAST-MODIFIED:20191006T124552Z
UID:1869-1564012800-1564099199@keyventure.in
SUMMARY:Accenture Ventures Applied Intelligence Challenge
DESCRIPTION:Topic: NA \nRole Played: Jury\, Investor \nMedia: NA
URL:https://keyventure.in/event/accenture-ventures-applied-intelligence-challenge/
END:VEVENT
BEGIN:VEVENT
DTSTART;VALUE=DATE:20190712
DTEND;VALUE=DATE:20190713
DTSTAMP:20260425T072543
CREATED:20191006T124432Z
LAST-MODIFIED:20191006T124432Z
UID:1868-1562889600-1562975999@keyventure.in
SUMMARY:NPC - Hyderabad
DESCRIPTION:
URL:https://keyventure.in/event/npc-hyderabad/
END:VEVENT
BEGIN:VEVENT
DTSTART;VALUE=DATE:20190710
DTEND;VALUE=DATE:20190711
DTSTAMP:20260425T072543
CREATED:20191006T124323Z
LAST-MODIFIED:20191006T124356Z
UID:1867-1562716800-1562803199@keyventure.in
SUMMARY:CII Industry-Academia Connect 2019
DESCRIPTION:Topic: Developing Future Skills for Employment\, Entrepreneurship & Leadership \nRole Played: Panel Discussion \nMedia: Visit Page
URL:https://keyventure.in/event/cii-industry-academia-connect-2019/
END:VEVENT
BEGIN:VEVENT
DTSTART;VALUE=DATE:20190628
DTEND;VALUE=DATE:20190629
DTSTAMP:20260425T072543
CREATED:20191006T123832Z
LAST-MODIFIED:20191006T124152Z
UID:1863-1561680000-1561766399@keyventure.in
SUMMARY:7th Edition of Next BIG Idea Contest - ZoneStartups
DESCRIPTION:Topic: NA \nRole Played: Jury\, Investor \nMedia: NA
URL:https://keyventure.in/event/7th-edition-of-next-big-idea-contest-zonestartups/
END:VEVENT
BEGIN:VEVENT
DTSTART;VALUE=DATE:20190622
DTEND;VALUE=DATE:20190623
DTSTAMP:20260425T072543
CREATED:20191006T123812Z
LAST-MODIFIED:20191006T123812Z
UID:1862-1561161600-1561247999@keyventure.in
SUMMARY:AngelHack Global Hackathon
DESCRIPTION:Topic: NA \nRole Played: Jury\, Investor \nMedia: NA
URL:https://keyventure.in/event/angelhack-global-hackathon/
END:VEVENT
BEGIN:VEVENT
DTSTART;VALUE=DATE:20190603
DTEND;VALUE=DATE:20190604
DTSTAMP:20260425T072543
CREATED:20191006T123801Z
LAST-MODIFIED:20191006T123801Z
UID:1857-1559520000-1559606399@keyventure.in
SUMMARY:iStart Rajasthan Angel Investor pitch 2019
DESCRIPTION:Topic: NA \nRole Played: Jury\, Investor \nMedia: NA
URL:https://keyventure.in/event/istart-rajasthan-angel-investor-pitch-2019/
END:VEVENT
BEGIN:VEVENT
DTSTART;VALUE=DATE:20190529
DTEND;VALUE=DATE:20190531
DTSTAMP:20260425T072543
CREATED:20191006T123116Z
LAST-MODIFIED:20191006T123116Z
UID:1853-1559088000-1559260799@keyventure.in
SUMMARY:AEONIAN 2019
DESCRIPTION:
URL:https://keyventure.in/event/aeonian-2019/
END:VEVENT
BEGIN:VEVENT
DTSTART;VALUE=DATE:20190529
DTEND;VALUE=DATE:20190530
DTSTAMP:20260425T072543
CREATED:20191006T123232Z
LAST-MODIFIED:20191006T123450Z
UID:1856-1559088000-1559174399@keyventure.in
SUMMARY:BCCI Event- UNGC
DESCRIPTION:Topic: Accelerating social impact solutions through collective action between industry\, investors and startups \nRole Played: Speaker \nMedia: NA
URL:https://keyventure.in/event/bcci-event-ungc/
END:VEVENT
BEGIN:VEVENT
DTSTART;VALUE=DATE:20190526
DTEND;VALUE=DATE:20190527
DTSTAMP:20260425T072543
CREATED:20191006T123016Z
LAST-MODIFIED:20191006T145903Z
UID:1852-1558828800-1558915199@keyventure.in
SUMMARY:Conquest BITS Pilani
DESCRIPTION:Topic: NA \nRole Played: Pitch Session One-To-One \nMedia: Visit Page
URL:https://keyventure.in/event/conquest-bits-pilani/
END:VEVENT
BEGIN:VEVENT
DTSTART;VALUE=DATE:20190525
DTEND;VALUE=DATE:20190527
DTSTAMP:20260425T072543
CREATED:20191006T122818Z
LAST-MODIFIED:20191006T122818Z
UID:1847-1558742400-1558915199@keyventure.in
SUMMARY:Franchise and Startup Summit
DESCRIPTION:Topic: NA \nRole Played: Jury\, Investor \nMedia: NA
URL:https://keyventure.in/event/franchise-and-startup-summit/
END:VEVENT
BEGIN:VEVENT
DTSTART;VALUE=DATE:20190511
DTEND;VALUE=DATE:20190512
DTSTAMP:20260425T072543
CREATED:20191006T122617Z
LAST-MODIFIED:20191006T145645Z
UID:1846-1557532800-1557619199@keyventure.in
SUMMARY:Startup Chaupal - Jaipur
DESCRIPTION:Topic: Emerging Startup Ecosystem \nRole Played: Panel Discussion\, Jury\, Investor \nMedia: Visit Page 1 | Page 2 | Page 3
URL:https://keyventure.in/event/startup-chaupal-jaipur/
END:VEVENT
BEGIN:VEVENT
DTSTART;VALUE=DATE:20190425
DTEND;VALUE=DATE:20190426
DTSTAMP:20260425T072543
CREATED:20191006T122133Z
LAST-MODIFIED:20191006T122133Z
UID:1842-1556150400-1556236799@keyventure.in
SUMMARY:India Internet Day 2019
DESCRIPTION:
URL:https://keyventure.in/event/india-internet-day-2019/
END:VEVENT
END:VCALENDAR